BEGIN:VCALENDAR
VERSION:2.0
PRODID:-//Martin Center for Dance - ECPv6.15.20//NONSGML v1.0//EN
CALSCALE:GREGORIAN
METHOD:PUBLISH
X-ORIGINAL-URL:https://martinbartonarts.com
X-WR-CALDESC:Events for Martin Center for Dance
REFRESH-INTERVAL;VALUE=DURATION:PT1H
X-Robots-Tag:noindex
X-PUBLISHED-TTL:PT1H
BEGIN:VTIMEZONE
TZID:America/New_York
BEGIN:DAYLIGHT
TZOFFSETFROM:-0500
TZOFFSETTO:-0400
TZNAME:EDT
DTSTART:20190310T070000
END:DAYLIGHT
BEGIN:STANDARD
TZOFFSETFROM:-0400
TZOFFSETTO:-0500
TZNAME:EST
DTSTART:20191103T060000
END:STANDARD
BEGIN:DAYLIGHT
TZOFFSETFROM:-0500
TZOFFSETTO:-0400
TZNAME:EDT
DTSTART:20200308T070000
END:DAYLIGHT
BEGIN:STANDARD
TZOFFSETFROM:-0400
TZOFFSETTO:-0500
TZNAME:EST
DTSTART:20201101T060000
END:STANDARD
BEGIN:DAYLIGHT
TZOFFSETFROM:-0500
TZOFFSETTO:-0400
TZNAME:EDT
DTSTART:20210314T070000
END:DAYLIGHT
BEGIN:STANDARD
TZOFFSETFROM:-0400
TZOFFSETTO:-0500
TZNAME:EST
DTSTART:20211107T060000
END:STANDARD
BEGIN:DAYLIGHT
TZOFFSETFROM:-0500
TZOFFSETTO:-0400
TZNAME:EDT
DTSTART:20220313T070000
END:DAYLIGHT
BEGIN:STANDARD
TZOFFSETFROM:-0400
TZOFFSETTO:-0500
TZNAME:EST
DTSTART:20221106T060000
END:STANDARD
BEGIN:DAYLIGHT
TZOFFSETFROM:-0500
TZOFFSETTO:-0400
TZNAME:EDT
DTSTART:20230312T070000
END:DAYLIGHT
BEGIN:STANDARD
TZOFFSETFROM:-0400
TZOFFSETTO:-0500
TZNAME:EST
DTSTART:20231105T060000
END:STANDARD
END:VTIMEZONE
BEGIN:VEVENT
DTSTART;TZID=America/New_York:20220705T093000
DTEND;TZID=America/New_York:20220805T163000
DTSTAMP:20260422T110938
CREATED:20220502T185614Z
LAST-MODIFIED:20220502T185614Z
UID:19213-1657013400-1659717000@martinbartonarts.com
SUMMARY:MCD - Summer Intensive - Advanced Division & Int.Adv. Division
DESCRIPTION:Summer Intensive – \nMonday – Friday – 9:30am – 4:30pm \nBallet\, Pointe\, Modern\, Contemporary\, Variations\, Choreography\, Performance\, Conditioning & Coaching \nFaculty \nDouglas Martin & Mary Barton\nMaria Youskevitch\, Kirk Peterson \nShare this:\n				Share on Facebook (Opens in new window)\n				Facebook\n			\n				Share on X (Opens in new window)\n				X
URL:https://martinbartonarts.com/event/mcd-summer-intensive-advanced-division-int-adv-division/
LOCATION:Martin Center for Dance\, 11 Princess Rd. Suite 11G\, Lawrenceville\, NJ\, 08648\, United States
CATEGORIES:School Calendar
ORGANIZER;CN="Martin Center for Dance":MAILTO:DouglasMartinArts@gmail.com
END:VEVENT
BEGIN:VEVENT
DTSTART;TZID=America/New_York:20220627T093000
DTEND;TZID=America/New_York:20220701T150000
DTSTAMP:20260422T110938
CREATED:20220502T184953Z
LAST-MODIFIED:20220502T184953Z
UID:19209-1656322200-1656687600@martinbartonarts.com
SUMMARY:Children's Summer Ballet Workshop - session 1 June 27th - July 1st
DESCRIPTION:5 day Children’s ballet workshop \nMonday – Friday – 9:30am – 3:00pm \nBallet\, Variations\, Character dance\, Dance lecture and Dance craft. \nFaculty – \nJennifer Gladney & Erika Mero \nShare this:\n				Share on Facebook (Opens in new window)\n				Facebook\n			\n				Share on X (Opens in new window)\n				X
URL:https://martinbartonarts.com/event/childrens-summer-ballet-workshop-session-1-june-27th-july-1st/
LOCATION:NJ
CATEGORIES:School Calendar
ORGANIZER;CN="Martin Center for Dance":MAILTO:DouglasMartinArts@gmail.com
END:VEVENT
BEGIN:VEVENT
DTSTART;TZID=America/New_York:20220618T080000
DTEND;TZID=America/New_York:20220618T120000
DTSTAMP:20260422T110938
CREATED:20220502T184430Z
LAST-MODIFIED:20220502T184545Z
UID:19203-1655539200-1655553600@martinbartonarts.com
SUMMARY:Summer Children's classes - Saturdays only June 18th - July 16th
DESCRIPTION:5 week Summer class extension – June 18th – July 16th. \nChildren’s class with Ms. Jennifer Gladney \nMe\, You & Music Too!\nCh. Pre. Ballet\nCh. Beginning Ballet \nShare this:\n				Share on Facebook (Opens in new window)\n				Facebook\n			\n				Share on X (Opens in new window)\n				X
URL:https://martinbartonarts.com/event/summer-childrens-classes-saturdays-only-june-18th-july-16th/
LOCATION:Martin Center for Dance\, 11 Princess Rd. Suite 11G\, Lawrenceville\, NJ\, 08648\, United States
CATEGORIES:School Calendar
ORGANIZER;CN="Martin Center for Dance":MAILTO:DouglasMartinArts@gmail.com
END:VEVENT
BEGIN:VEVENT
DTSTART;VALUE=DATE:20220611
DTEND;VALUE=DATE:20220612
DTSTAMP:20260422T110938
CREATED:20220502T183712Z
LAST-MODIFIED:20220502T183712Z
UID:19201-1654905600-1654991999@martinbartonarts.com
SUMMARY:Last day of spring classes
DESCRIPTION:End of Spring semester \nShare this:\n				Share on Facebook (Opens in new window)\n				Facebook\n			\n				Share on X (Opens in new window)\n				X
URL:https://martinbartonarts.com/event/last-day-of-spring-classes/
LOCATION:Martin Center for Dance\, 11 Princess Rd. Suite 11G\, Lawrenceville\, NJ\, 08648\, United States
CATEGORIES:School Calendar
ORGANIZER;CN="Martin Center for Dance":MAILTO:DouglasMartinArts@gmail.com
END:VEVENT
BEGIN:VEVENT
DTSTART;TZID=America/New_York:20220604T133000
DTEND;TZID=America/New_York:20220604T153000
DTSTAMP:20260422T110938
CREATED:20220502T183351Z
LAST-MODIFIED:20220502T183351Z
UID:19197-1654349400-1654356600@martinbartonarts.com
SUMMARY:Spring Showcase
DESCRIPTION:Saturday Show \nShare this:\n				Share on Facebook (Opens in new window)\n				Facebook\n			\n				Share on X (Opens in new window)\n				X
URL:https://martinbartonarts.com/event/spring-showcase-2/
LOCATION:Martin Center for Dance\, 11 Princess Rd. Suite 11G\, Lawrenceville\, NJ\, 08648\, United States
CATEGORIES:School Calendar
ORGANIZER;CN="MartinBartonArts.com":MAILTO:DouglasMartinArts@gmail.com
END:VEVENT
BEGIN:VEVENT
DTSTART;TZID=America/New_York:20220603T181500
DTEND;TZID=America/New_York:20220603T200000
DTSTAMP:20260422T110938
CREATED:20220502T183222Z
LAST-MODIFIED:20220502T183552Z
UID:19195-1654280100-1654286400@martinbartonarts.com
SUMMARY:Spring Showcase
DESCRIPTION:Friday evening showcast – \nShare this:\n				Share on Facebook (Opens in new window)\n				Facebook\n			\n				Share on X (Opens in new window)\n				X
URL:https://martinbartonarts.com/event/spring-showcase/
LOCATION:Martin Center for Dance\, 11 Princess Rd. Suite 11G\, Lawrenceville\, NJ\, 08648\, United States
CATEGORIES:School Calendar
ORGANIZER;CN="MartinBartonArts.com":MAILTO:DouglasMartinArts@gmail.com
END:VEVENT
BEGIN:VEVENT
DTSTART;VALUE=DATE:20220528
DTEND;VALUE=DATE:20220531
DTSTAMP:20260422T110938
CREATED:20220210T170805Z
LAST-MODIFIED:20220210T170805Z
UID:17134-1653696000-1653955199@martinbartonarts.com
SUMMARY:Memorial Day - May 28th - May 30st
DESCRIPTION:Three Day weekend – Memorial Day Celebration \nNo Classes Saturday\, Sunday or Monday \nShare this:\n				Share on Facebook (Opens in new window)\n				Facebook\n			\n				Share on X (Opens in new window)\n				X
URL:https://martinbartonarts.com/event/memorial-day-may-28th-may-30st/
LOCATION:Martin Center for Dance\, 11 Princess Rd. Suite 11G\, Lawrenceville\, NJ\, 08648\, United States
CATEGORIES:Holidays,School Calendar
ORGANIZER;CN="Martin Center for Dance":MAILTO:DouglasMartinArts@gmail.com
END:VEVENT
BEGIN:VEVENT
DTSTART;VALUE=DATE:20220411
DTEND;VALUE=DATE:20220418
DTSTAMP:20260422T110938
CREATED:20220210T165531Z
LAST-MODIFIED:20220210T165755Z
UID:17129-1649635200-1650239999@martinbartonarts.com
SUMMARY:MCD - Spring break week April 11 - 17
DESCRIPTION:No student classes this week – MCD will reopen on Monday April 18th. \nAdult Open Enrollment classes will be held – Monday April 11th and Tuesday April 12th only\nMonday April 11th – 9:30pm Open Advanced Ballet –\n11:15am Open Intermediate Ballet\n6:15pm Open Intermediate Ballet \nTuesday April 12th – 9:30am Open Advanced Ballet\n6:15pm Open Beginner Ballet \nShare this:\n				Share on Facebook (Opens in new window)\n				Facebook\n			\n				Share on X (Opens in new window)\n				X
URL:https://martinbartonarts.com/event/mcd-spring-break-week-april-11-17/
LOCATION:Martin Center for Dance\, 11 Princess Rd. Suite 11G\, Lawrenceville\, NJ\, 08648\, United States
CATEGORIES:School Calendar
ORGANIZER;CN="Martin Center for Dance":MAILTO:DouglasMartinArts@gmail.com
END:VEVENT
BEGIN:VEVENT
DTSTART;TZID=America/New_York:20220325T193000
DTEND;TZID=America/New_York:20220325T203000
DTSTAMP:20260422T110938
CREATED:20220210T170422Z
LAST-MODIFIED:20220210T170422Z
UID:17132-1648236600-1648240200@martinbartonarts.com
SUMMARY:Fourth Friday - Live Arts Event - Dance party
DESCRIPTION:Fourth Friday – Live Arts – Dance Party – Friday March 25th – 7:30pm – 8:30pm \nDancers – Family and Friends – welcome for our first live dance party \nJoin us as Mary Barton’s leads us through our fantastically fun Friday Live Arts dance party –  This Fun dance party is for everyone both in person at the studio and live online! \nBring your dancing shoes or just socks and get ready to get your groove on! \nThis is a free Community event! \nShare this:\n				Share on Facebook (Opens in new window)\n				Facebook\n			\n				Share on X (Opens in new window)\n				X
URL:https://martinbartonarts.com/event/fourth-friday-live-arts-event-dance-party/
LOCATION:Martin Center for Dance\, 11 Princess Rd. Suite 11G\, Lawrenceville\, NJ\, 08648\, United States
CATEGORIES:School Calendar,Warehouse Events
ORGANIZER;CN="Martin Center for Dance":MAILTO:DouglasMartinArts@gmail.com
END:VEVENT
BEGIN:VEVENT
DTSTART;TZID=America/New_York:20220226T133000
DTEND;TZID=America/New_York:20220226T143000
DTSTAMP:20260422T110938
CREATED:20220210T164858Z
LAST-MODIFIED:20220210T164858Z
UID:17127-1645882200-1645885800@martinbartonarts.com
SUMMARY:Artistic Workshop - Winter Woodland showcase
DESCRIPTION:Artistic Workshop  – Winter Woodland Showcase – \nAdvanced dancers take 11am class – Intermediate Dancers will be given a warm up class at 12pm \n  \nShare this:\n				Share on Facebook (Opens in new window)\n				Facebook\n			\n				Share on X (Opens in new window)\n				X
URL:https://martinbartonarts.com/event/artistic-workshop-winter-woodland-showcase-2/
LOCATION:Martin Center for Dance\, 11 Princess Rd. Suite 11G\, Lawrenceville\, NJ\, 08648\, United States
CATEGORIES:School Calendar
ORGANIZER;CN="MartinBartonArts.com":MAILTO:DouglasMartinArts@gmail.com
END:VEVENT
BEGIN:VEVENT
DTSTART;TZID=America/New_York:20220225T183000
DTEND;TZID=America/New_York:20220225T193000
DTSTAMP:20260422T110938
CREATED:20220210T164648Z
LAST-MODIFIED:20220210T164648Z
UID:17124-1645813800-1645817400@martinbartonarts.com
SUMMARY:Artistic Workshop - Winter Woodland showcase
DESCRIPTION:Artistic workshop showcase 6:30pm – 7:30pm Family event – \nAll Dancers will take regular Friday class before the show. \nShare this:\n				Share on Facebook (Opens in new window)\n				Facebook\n			\n				Share on X (Opens in new window)\n				X
URL:https://martinbartonarts.com/event/artistic-workshop-winter-woodland-showcase/
LOCATION:Martin Center for Dance\, 11 Princess Rd. Suite 11G\, Lawrenceville\, NJ\, 08648\, United States
CATEGORIES:School Calendar
ORGANIZER;CN="MartinBartonArts.com":MAILTO:DouglasMartinArts@gmail.com
END:VEVENT
BEGIN:VEVENT
DTSTART;VALUE=DATE:20211220
DTEND;VALUE=DATE:20220103
DTSTAMP:20260422T110938
CREATED:20210805T232023Z
LAST-MODIFIED:20210805T232137Z
UID:13000-1639958400-1641167999@martinbartonarts.com
SUMMARY:Winter Break - Dec. 20th - Jan. 2nd
DESCRIPTION:MCD is closed for Winter Break – Dec. 20th through Jan 2nd \nWe reopen on Jan. 3rd \nShare this:\n				Share on Facebook (Opens in new window)\n				Facebook\n			\n				Share on X (Opens in new window)\n				X
URL:https://martinbartonarts.com/event/winter-break-dec-20th-jan-2nd/
LOCATION:NJ
CATEGORIES:School Calendar
END:VEVENT
BEGIN:VEVENT
DTSTART;VALUE=DATE:20211124
DTEND;VALUE=DATE:20211129
DTSTAMP:20260422T110938
CREATED:20210805T231831Z
LAST-MODIFIED:20210805T231831Z
UID:12998-1637712000-1638143999@martinbartonarts.com
SUMMARY:Thanksgiving Break - Wed - Sun
DESCRIPTION:MCD – Closed for Holiday Wednesday through Sunday \nShare this:\n				Share on Facebook (Opens in new window)\n				Facebook\n			\n				Share on X (Opens in new window)\n				X
URL:https://martinbartonarts.com/event/thanksgiving-break-wed-sun/
LOCATION:NJ
CATEGORIES:School Calendar
END:VEVENT
BEGIN:VEVENT
DTSTART;TZID=America/New_York:20210906T091500
DTEND;TZID=America/New_York:20210906T210000
DTSTAMP:20260422T110938
CREATED:20210721T015924Z
LAST-MODIFIED:20210721T015924Z
UID:12655-1630919700-1630962000@martinbartonarts.com
SUMMARY:Fall session starts for all classes
DESCRIPTION:Children’s\, Students and Open class fall schedule starts today:) \nShare this:\n				Share on Facebook (Opens in new window)\n				Facebook\n			\n				Share on X (Opens in new window)\n				X
URL:https://martinbartonarts.com/event/fall-session-starts-for-all-classes/
LOCATION:NJ
CATEGORIES:School Calendar
END:VEVENT
BEGIN:VEVENT
DTSTART;TZID=America/New_York:20210823T090000
DTEND;TZID=America/New_York:20210826T110000
DTSTAMP:20260422T110938
CREATED:20210805T231303Z
LAST-MODIFIED:20210805T231303Z
UID:12992-1629709200-1629975600@martinbartonarts.com
SUMMARY:Open Adv Ballet 9:15am Mon-Thurs
DESCRIPTION:Share this:\n				Share on Facebook (Opens in new window)\n				Facebook\n			\n				Share on X (Opens in new window)\n				X
URL:https://martinbartonarts.com/event/open-adv-ballet-915am-mon-thurs-2/
LOCATION:NJ
CATEGORIES:School Calendar
END:VEVENT
BEGIN:VEVENT
DTSTART;TZID=America/New_York:20210816T180000
DTEND;TZID=America/New_York:20210818T193000
DTSTAMP:20260422T110938
CREATED:20210805T231605Z
LAST-MODIFIED:20210805T231628Z
UID:12996-1629136800-1629315000@martinbartonarts.com
SUMMARY:Open Int. Ballet - Mon\, Wed\, 6pm - Thurs - 11:15am
DESCRIPTION:Share this:\n				Share on Facebook (Opens in new window)\n				Facebook\n			\n				Share on X (Opens in new window)\n				X
URL:https://martinbartonarts.com/event/open-int-ballet-mon-wed-6pm-thurs-1115am-2/
LOCATION:NJ
CATEGORIES:School Calendar
END:VEVENT
BEGIN:VEVENT
DTSTART;TZID=America/New_York:20210816T090000
DTEND;TZID=America/New_York:20210819T110000
DTSTAMP:20260422T110938
CREATED:20210805T231215Z
LAST-MODIFIED:20210805T231337Z
UID:12990-1629104400-1629370800@martinbartonarts.com
SUMMARY:Open Adv Ballet 9:15am Mon-Thurs
DESCRIPTION:Share this:\n				Share on Facebook (Opens in new window)\n				Facebook\n			\n				Share on X (Opens in new window)\n				X
URL:https://martinbartonarts.com/event/open-adv-ballet-915am-mon-thurs/
LOCATION:NJ
CATEGORIES:School Calendar
END:VEVENT
BEGIN:VEVENT
DTSTART;TZID=America/New_York:20210809T180000
DTEND;TZID=America/New_York:20210811T191500
DTSTAMP:20260422T110938
CREATED:20210805T231508Z
LAST-MODIFIED:20210805T231520Z
UID:12994-1628532000-1628709300@martinbartonarts.com
SUMMARY:Open Int. Ballet - Mon\, Wed\, 6pm - Thurs - 11:15am
DESCRIPTION:Share this:\n				Share on Facebook (Opens in new window)\n				Facebook\n			\n				Share on X (Opens in new window)\n				X
URL:https://martinbartonarts.com/event/open-int-ballet-mon-wed-6pm-thurs-1115am/
LOCATION:NJ
CATEGORIES:School Calendar
END:VEVENT
BEGIN:VEVENT
DTSTART;TZID=America/New_York:20210809T091500
DTEND;TZID=America/New_York:20210812T104500
DTSTAMP:20260422T110938
CREATED:20210805T231025Z
LAST-MODIFIED:20210805T231124Z
UID:12988-1628500500-1628765100@martinbartonarts.com
SUMMARY:August Extension classes - Adv. 9:15a Mon. - Thurs.
DESCRIPTION:Open Adv. Ballet – Drop ins welcome – 9:15am – 10:45am \nShare this:\n				Share on Facebook (Opens in new window)\n				Facebook\n			\n				Share on X (Opens in new window)\n				X
URL:https://martinbartonarts.com/event/august-extension-classes-adv-915a-mon-thurs/
LOCATION:NJ
CATEGORIES:School Calendar
END:VEVENT
BEGIN:VEVENT
DTSTART;TZID=America/New_York:20210705T090000
DTEND;TZID=America/New_York:20210806T050000
DTSTAMP:20260422T110938
CREATED:20210315T121709Z
LAST-MODIFIED:20210316T000426Z
UID:9871-1625475600-1628226000@martinbartonarts.com
SUMMARY:Summer Intensive Experience - Advanced and Int/Advanced Divisions
DESCRIPTION:July 5th – Aug 6th \nShare this:\n				Share on Facebook (Opens in new window)\n				Facebook\n			\n				Share on X (Opens in new window)\n				X
URL:https://martinbartonarts.com/event/summer-intensive-experience-advanced-and-int-advanced-divisions/
LOCATION:Martin Center for Dance\, 11 Princess Rd. Suite 11G\, Lawrenceville\, NJ\, 08648\, United States
CATEGORIES:School Calendar
ORGANIZER;CN="Martin Center for Dance":MAILTO:DouglasMartinArts@gmail.com
END:VEVENT
BEGIN:VEVENT
DTSTART;VALUE=DATE:20210628
DTEND;VALUE=DATE:20210703
DTSTAMP:20260422T110938
CREATED:20210315T121208Z
LAST-MODIFIED:20210315T121211Z
UID:9864-1624838400-1625270399@martinbartonarts.com
SUMMARY:Children's Summer Ballet Workshop ages 8-10
DESCRIPTION:June 28 – July 2 – Session 1 – 9am – 4pm \n  \nShare this:\n				Share on Facebook (Opens in new window)\n				Facebook\n			\n				Share on X (Opens in new window)\n				X
URL:https://martinbartonarts.com/event/childrens-summer-ballet-workshop-ages-8-10/
LOCATION:NJ
CATEGORIES:School Calendar
END:VEVENT
BEGIN:VEVENT
DTSTART;VALUE=DATE:20210529
DTEND;VALUE=DATE:20210601
DTSTAMP:20260422T110938
CREATED:20210315T120715Z
LAST-MODIFIED:20210315T120734Z
UID:9860-1622246400-1622505599@martinbartonarts.com
SUMMARY:Memorial Day weekend - School closed
DESCRIPTION:School closed – Saturday – Monday \nShare this:\n				Share on Facebook (Opens in new window)\n				Facebook\n			\n				Share on X (Opens in new window)\n				X
URL:https://martinbartonarts.com/event/memorial-day-weekend-school-closed/
LOCATION:NJ
CATEGORIES:School Calendar
END:VEVENT
BEGIN:VEVENT
DTSTART;TZID=America/New_York:20210329T090000
DTEND;TZID=America/New_York:20210404T210000
DTSTAMP:20260422T110938
CREATED:20210329T113447Z
LAST-MODIFIED:20210329T113453Z
UID:10144-1617008400-1617570000@martinbartonarts.com
SUMMARY:Spring Break Week 3/29-4/4
DESCRIPTION:Have a wonderful break and we will see you in class on April 5th! \nShare this:\n				Share on Facebook (Opens in new window)\n				Facebook\n			\n				Share on X (Opens in new window)\n				X
URL:https://martinbartonarts.com/event/spring-break-week-3-29-4-4/
LOCATION:NJ
CATEGORIES:School Calendar
END:VEVENT
BEGIN:VEVENT
DTSTART;VALUE=DATE:20210329
DTEND;VALUE=DATE:20210405
DTSTAMP:20260422T110938
CREATED:20210315T120424Z
LAST-MODIFIED:20210315T120429Z
UID:9858-1616976000-1617580799@martinbartonarts.com
SUMMARY:Spring Break
DESCRIPTION:Monday March 29th – Sunday April 4th \nShare this:\n				Share on Facebook (Opens in new window)\n				Facebook\n			\n				Share on X (Opens in new window)\n				X
URL:https://martinbartonarts.com/event/spring-break/
LOCATION:NJ
CATEGORIES:School Calendar
END:VEVENT
BEGIN:VEVENT
DTSTART;VALUE=DATE:20210104
DTEND;VALUE=DATE:20210105
DTSTAMP:20260422T110938
CREATED:20200627T085645Z
LAST-MODIFIED:20200627T085645Z
UID:4412-1609718400-1609804799@martinbartonarts.com
SUMMARY:Winter/Spring Classes begin
DESCRIPTION:Winter/Spring sessions – Jan. 4th – May 29th \nShare this:\n				Share on Facebook (Opens in new window)\n				Facebook\n			\n				Share on X (Opens in new window)\n				X
URL:https://martinbartonarts.com/event/winter-spring-classes-begin/
LOCATION:NJ
CATEGORIES:School Calendar
END:VEVENT
BEGIN:VEVENT
DTSTART;VALUE=DATE:20201220
DTEND;VALUE=DATE:20210104
DTSTAMP:20260422T110938
CREATED:20200626T213453Z
LAST-MODIFIED:20200627T090500Z
UID:4391-1608422400-1609718399@martinbartonarts.com
SUMMARY:Winter Break Dec. 20th - Jan. 3rd
DESCRIPTION:Share this:\n				Share on Facebook (Opens in new window)\n				Facebook\n			\n				Share on X (Opens in new window)\n				X
URL:https://martinbartonarts.com/event/winter-break-dec-20th-jan-3rd/
LOCATION:NJ
CATEGORIES:School Calendar
END:VEVENT
BEGIN:VEVENT
DTSTART;VALUE=DATE:20201126
DTEND;VALUE=DATE:20201130
DTSTAMP:20260422T110938
CREATED:20200627T092325Z
LAST-MODIFIED:20200627T092325Z
UID:4415-1606348800-1606694399@martinbartonarts.com
SUMMARY:Thanksgiving - break
DESCRIPTION:No Student Classes – Monday Nov. 23 -28 \nAdult classes Monday 11/23\, Tuesday 11/24\, Wednesday 11/25 only. \nSchool closed Thursday 11/26 -Sunday 11/29 \nShare this:\n				Share on Facebook (Opens in new window)\n				Facebook\n			\n				Share on X (Opens in new window)\n				X
URL:https://martinbartonarts.com/event/thanksgiving-break/
LOCATION:NJ
CATEGORIES:School Calendar
END:VEVENT
BEGIN:VEVENT
DTSTART;TZID=America/New_York:20201125T090000
DTEND;TZID=America/New_York:20201125T123000
DTSTAMP:20260422T110938
CREATED:20200627T093959Z
LAST-MODIFIED:20201121T145132Z
UID:4424-1606294800-1606307400@martinbartonarts.com
SUMMARY:Closed for Thanksgiving Wednesday - Sunday
DESCRIPTION:No Class Today – Sunday Thanksgiving Week \nShare this:\n				Share on Facebook (Opens in new window)\n				Facebook\n			\n				Share on X (Opens in new window)\n				X
URL:https://martinbartonarts.com/event/open-class-schedule-2/
LOCATION:NJ
CATEGORIES:School Calendar
END:VEVENT
BEGIN:VEVENT
DTSTART;TZID=America/New_York:20201124T090000
DTEND;TZID=America/New_York:20201124T123000
DTSTAMP:20260422T110938
CREATED:20200627T093753Z
LAST-MODIFIED:20200627T093753Z
UID:4422-1606208400-1606221000@martinbartonarts.com
SUMMARY:Open Class Schedule
DESCRIPTION:9:15am – Open Advanced Ballet \n11am – Open Beginner Ballet \nShare this:\n				Share on Facebook (Opens in new window)\n				Facebook\n			\n				Share on X (Opens in new window)\n				X
URL:https://martinbartonarts.com/event/open-class-schedule/
LOCATION:NJ
CATEGORIES:School Calendar
END:VEVENT
BEGIN:VEVENT
DTSTART;TZID=America/New_York:20201123T080000
DTEND;TZID=America/New_York:20201123T123000
DTSTAMP:20260422T110938
CREATED:20200627T093606Z
LAST-MODIFIED:20200627T093635Z
UID:4420-1606118400-1606134600@martinbartonarts.com
SUMMARY:Open Classes
DESCRIPTION:9:15am – Open Advanced – \n11:00am – Open Intermediate \n  \nShare this:\n				Share on Facebook (Opens in new window)\n				Facebook\n			\n				Share on X (Opens in new window)\n				X
URL:https://martinbartonarts.com/event/open-classes/
LOCATION:NJ
CATEGORIES:School Calendar
END:VEVENT
END:VCALENDAR