BEGIN:VCALENDAR
VERSION:2.0
PRODID:-//Martin Center for Dance - ECPv6.15.20//NONSGML v1.0//EN
CALSCALE:GREGORIAN
METHOD:PUBLISH
X-WR-CALNAME:Martin Center for Dance
X-ORIGINAL-URL:https://martinbartonarts.com
X-WR-CALDESC:Events for Martin Center for Dance
REFRESH-INTERVAL;VALUE=DURATION:PT1H
X-Robots-Tag:noindex
X-PUBLISHED-TTL:PT1H
BEGIN:VTIMEZONE
TZID:America/New_York
BEGIN:DAYLIGHT
TZOFFSETFROM:-0500
TZOFFSETTO:-0400
TZNAME:EDT
DTSTART:20190310T070000
END:DAYLIGHT
BEGIN:STANDARD
TZOFFSETFROM:-0400
TZOFFSETTO:-0500
TZNAME:EST
DTSTART:20191103T060000
END:STANDARD
BEGIN:DAYLIGHT
TZOFFSETFROM:-0500
TZOFFSETTO:-0400
TZNAME:EDT
DTSTART:20200308T070000
END:DAYLIGHT
BEGIN:STANDARD
TZOFFSETFROM:-0400
TZOFFSETTO:-0500
TZNAME:EST
DTSTART:20201101T060000
END:STANDARD
BEGIN:DAYLIGHT
TZOFFSETFROM:-0500
TZOFFSETTO:-0400
TZNAME:EDT
DTSTART:20210314T070000
END:DAYLIGHT
BEGIN:STANDARD
TZOFFSETFROM:-0400
TZOFFSETTO:-0500
TZNAME:EST
DTSTART:20211107T060000
END:STANDARD
END:VTIMEZONE
BEGIN:VTIMEZONE
TZID:UTC
BEGIN:STANDARD
TZOFFSETFROM:+0000
TZOFFSETTO:+0000
TZNAME:UTC
DTSTART:20180101T000000
END:STANDARD
END:VTIMEZONE
BEGIN:VEVENT
DTSTART;VALUE=DATE:20200406
DTEND;VALUE=DATE:20200412
DTSTAMP:20260422T174818
CREATED:20200406T115852Z
LAST-MODIFIED:20200406T115852Z
UID:2823-1586131200-1586649599@martinbartonarts.com
SUMMARY:Regular Online weekday schedule through Saturday!
DESCRIPTION:All classes will be held throughout the week through Saturday April 11th 2020! \nShare this:\n				Share on Facebook (Opens in new window)\n				Facebook\n			\n				Share on X (Opens in new window)\n				X
URL:https://martinbartonarts.com/event/regular-online-weekday-schedule-through-saturday/
LOCATION:NJ\, United States
END:VEVENT
BEGIN:VEVENT
DTSTART;TZID=America/New_York:20200321T130000
DTEND;TZID=America/New_York:20200321T140000
DTSTAMP:20260422T174818
CREATED:20200225T123557Z
LAST-MODIFIED:20200225T123557Z
UID:1989-1584795600-1584799200@martinbartonarts.com
SUMMARY:Artistic Workshop Performance
DESCRIPTION:Artistic Workshop Performance #2 \nShare this:\n				Share on Facebook (Opens in new window)\n				Facebook\n			\n				Share on X (Opens in new window)\n				X
URL:https://martinbartonarts.com/event/artistic-workshop-performance-2/
CATEGORIES:School Calendar
ORGANIZER;CN="Martin Center for Dance":MAILTO:DouglasMartinArts@gmail.com
END:VEVENT
BEGIN:VEVENT
DTSTART;TZID=America/New_York:20200320T190000
DTEND;TZID=America/New_York:20200320T200000
DTSTAMP:20260422T174819
CREATED:20200225T123301Z
LAST-MODIFIED:20200225T123301Z
UID:1986-1584730800-1584734400@martinbartonarts.com
SUMMARY:Artistic Workshop Performance
DESCRIPTION:Artistic Workshop Performance #1 \nShare this:\n				Share on Facebook (Opens in new window)\n				Facebook\n			\n				Share on X (Opens in new window)\n				X
URL:https://martinbartonarts.com/event/artistic-workshop-performance/
LOCATION:The Warehouse\, 11 Princess Road\, Lawrenceville\, 08648\, United States
CATEGORIES:School Calendar
ORGANIZER;CN="Martin Center for Dance":MAILTO:DouglasMartinArts@gmail.com
END:VEVENT
BEGIN:VEVENT
DTSTART;VALUE=DATE:20200224
DTEND;VALUE=DATE:20200225
DTSTAMP:20260422T174819
CREATED:20191221T183756Z
LAST-MODIFIED:20191221T184211Z
UID:1047-1582502400-1582588799@martinbartonarts.com
SUMMARY:2nd 6-week Session Starts
DESCRIPTION:Feb 24 – Apr 4 \nMe-You & Music Too! \nBeginner Ballet \n50+ Contemporary \nShare this:\n				Share on Facebook (Opens in new window)\n				Facebook\n			\n				Share on X (Opens in new window)\n				X
URL:https://martinbartonarts.com/event/2nd-6-week-session-starts/
CATEGORIES:School Calendar
END:VEVENT
BEGIN:VEVENT
DTSTART;TZID=America/New_York:20200124T193000
DTEND;TZID=America/New_York:20200124T213000
DTSTAMP:20260422T174819
CREATED:20200202T130302Z
LAST-MODIFIED:20200202T145447Z
UID:1512-1579894200-1579901400@martinbartonarts.com
SUMMARY:Live Jazz by The Morpheus Trio
DESCRIPTION:Share this:\n				Share on Facebook (Opens in new window)\n				Facebook\n			\n				Share on X (Opens in new window)\n				X
URL:https://martinbartonarts.com/event/live-jazz-by-the-morpheus-trio/
LOCATION:The Warehouse\, 11 Princess Road\, Lawrenceville\, 08648\, United States
CATEGORIES:Warehouse Events
END:VEVENT
BEGIN:VEVENT
DTSTART;VALUE=DATE:20200113
DTEND;VALUE=DATE:20200114
DTSTAMP:20260422T174819
CREATED:20191221T182531Z
LAST-MODIFIED:20191221T184026Z
UID:1043-1578873600-1578959999@martinbartonarts.com
SUMMARY:1st 6-week Session Starts
DESCRIPTION:Jan 13 – Feb 22 \nMe-You & Music Too! \nBeginner Ballet \n50+ Contemporary \nShare this:\n				Share on Facebook (Opens in new window)\n				Facebook\n			\n				Share on X (Opens in new window)\n				X
URL:https://martinbartonarts.com/event/1st-6-week-session/
CATEGORIES:School Calendar
END:VEVENT
BEGIN:VEVENT
DTSTART;VALUE=DATE:20200106
DTEND;VALUE=DATE:20200107
DTSTAMP:20260422T174819
CREATED:20191221T182103Z
LAST-MODIFIED:20191221T182256Z
UID:1041-1578268800-1578355199@martinbartonarts.com
SUMMARY:Start of Winter Session
DESCRIPTION:Welcome to the opening day of classes for Martin Center for Dance! \nShare this:\n				Share on Facebook (Opens in new window)\n				Facebook\n			\n				Share on X (Opens in new window)\n				X
URL:https://martinbartonarts.com/event/start-of-winter-session/
CATEGORIES:School Calendar
ATTACH;FMTTYPE=image/png:https://martinbartonarts.com/wp-content/uploads/2019/12/favicon-orange-transp.png
END:VEVENT
BEGIN:VEVENT
DTSTART;VALUE=DATE:20200102
DTEND;VALUE=DATE:20200105
DTSTAMP:20260422T174819
CREATED:20191221T181257Z
LAST-MODIFIED:20191221T181337Z
UID:1039-1577923200-1578182399@martinbartonarts.com
SUMMARY:Sample Classes
DESCRIPTION:Come join us! \nShare this:\n				Share on Facebook (Opens in new window)\n				Facebook\n			\n				Share on X (Opens in new window)\n				X
URL:https://martinbartonarts.com/event/sample-classes-2/
CATEGORIES:School Calendar
ATTACH;FMTTYPE=image/png:https://martinbartonarts.com/wp-content/uploads/2019/12/favicon-orange-transp.png
END:VEVENT
BEGIN:VEVENT
DTSTART;TZID=America/New_York:20200101T080000
DTEND;TZID=America/New_York:20200101T170000
DTSTAMP:20260422T174819
CREATED:20200102T001207Z
LAST-MODIFIED:20200102T001207Z
UID:1217-1577865600-1577898000@martinbartonarts.com
SUMMARY:Horst Frankenberger at The Warehouse
DESCRIPTION:Exhibition of Painting.  Horst Frankenberger is a professional artist and graphic designer. \nShare this:\n				Share on Facebook (Opens in new window)\n				Facebook\n			\n				Share on X (Opens in new window)\n				X
URL:https://martinbartonarts.com/event/horst-frankenberger-at-the-warehouse/
CATEGORIES:Warehouse Events
ATTACH;FMTTYPE=image/jpeg:https://martinbartonarts.com/wp-content/uploads/2020/01/Horst-Photo.jpeg
END:VEVENT
BEGIN:VEVENT
DTSTART;TZID=America/New_York:20200101T080000
DTEND;TZID=America/New_York:20200101T170000
DTSTAMP:20260422T174819
CREATED:20200101T223329Z
LAST-MODIFIED:20200101T223329Z
UID:1214-1577865600-1577898000@martinbartonarts.com
SUMMARY:Peter Cook at The Warehouse
DESCRIPTION:Exhibition of the photographic works.  Peter Cook is an award winning and widely published photographer. \nShare this:\n				Share on Facebook (Opens in new window)\n				Facebook\n			\n				Share on X (Opens in new window)\n				X
URL:https://martinbartonarts.com/event/peter-cook-at-the-warehouse/
CATEGORIES:Warehouse Events
ATTACH;FMTTYPE=image/jpeg:https://martinbartonarts.com/wp-content/uploads/2020/01/Peter-Cook-photo.jpg
END:VEVENT
BEGIN:VEVENT
DTSTART;VALUE=DATE:20200101
DTEND;VALUE=DATE:20200102
DTSTAMP:20260422T174819
CREATED:20191221T180323Z
LAST-MODIFIED:20191221T181907Z
UID:1036-1577836800-1577923199@martinbartonarts.com
SUMMARY:New Years Day
DESCRIPTION:Happy New Year! \nSchool Closed \nShare this:\n				Share on Facebook (Opens in new window)\n				Facebook\n			\n				Share on X (Opens in new window)\n				X
URL:https://martinbartonarts.com/event/new-years-day/
CATEGORIES:Holidays,School Calendar
ATTACH;FMTTYPE=image/jpeg:https://martinbartonarts.com/wp-content/uploads/2019/12/67964758-happy-new-year-lettering-greeting-card-with-snowflakes-and-ballet-dancers-on-winter-background-.jpg
END:VEVENT
BEGIN:VEVENT
DTSTART;VALUE=DATE:20191225
DTEND;VALUE=DATE:20191226
DTSTAMP:20260422T174819
CREATED:20191221T174458Z
LAST-MODIFIED:20191221T184809Z
UID:1030-1577232000-1577318399@martinbartonarts.com
SUMMARY:Christmas
DESCRIPTION:School Closed \nShare this:\n				Share on Facebook (Opens in new window)\n				Facebook\n			\n				Share on X (Opens in new window)\n				X
URL:https://martinbartonarts.com/event/christmas/
CATEGORIES:Holidays,School Calendar
ATTACH;FMTTYPE=image/jpeg:https://martinbartonarts.com/wp-content/uploads/2019/12/pngtree-simple-cute-dancing-santa-element-png-image_2040679.jpg
END:VEVENT
BEGIN:VEVENT
DTSTART;VALUE=DATE:20191217
DTEND;VALUE=DATE:20191223
DTSTAMP:20260422T174819
CREATED:20191221T172931Z
LAST-MODIFIED:20191221T181058Z
UID:1027-1576540800-1577059199@martinbartonarts.com
SUMMARY:Dec Sample Classes
DESCRIPTION:Join us for free sample classes taught by Mary\, Douglas and Mary Pat! \nShare this:\n				Share on Facebook (Opens in new window)\n				Facebook\n			\n				Share on X (Opens in new window)\n				X
URL:https://martinbartonarts.com/event/sample-classes/
CATEGORIES:School Calendar
ATTACH;FMTTYPE=image/png:https://martinbartonarts.com/wp-content/uploads/2019/12/favicon-orange-transp.png
END:VEVENT
END:VCALENDAR